BEGIN:VCALENDAR
VERSION:2.0
PRODID:-//wp-events-plugin.com//7.2.3.1//EN
BEGIN:VEVENT
UID:18@titoyaya.com
DTSTART:20190328T190000Z
DTEND:20191110T200000Z
DTSTAMP:20181115T235609Z
URL:http://titoyaya.com/agenda/carmen-maquia-tour-2019/
SUMMARY:CARMEN.maquia tour 2019
DESCRIPTION:CARMEN.maquia\, calificada por Chicago Sun como "obra maestra"\
 , es la pieza culminante de la etapa de Gustavo Ramírez al frente de la c
 ompañía Luna Negra. Para aquella ocasión Gustavo se rodeó de otros cre
 adores españoles de referencia: Luis Crespo como escenógrafo y el recien
 temente desaparecido David Delfín como diseñador de vestuario.  CARMEN.
 maquia  es una versión contemporánea del clásicoa de Mérimée donde s
 e mantiene íntegro el argumento\n\nDos obras de Picasso en relación a la
  Carmen de Mérimée sirven de inspiración para la escenografía minimali
 sta de Luis Crespo y para la elegancia y sobriedad que se deja ver en el v
 estuario ideado por David Delfín: Carmen 1949 y Le Carmen des Carmen\, de
  1964. Este trabajo en blanco y negro está muy presente en la escena y la
  define de principio a fin.\n\nEl éxito e interés que  CARMEN.maquia de
 spierta en el público se revela en las diferentes compañías que hasta e
 l día de hoy han puesto en escena la pieza tras su estreno por Luna Negra
  en Chicago en 2012: Ballet Hispánico\, compañía de referencia en Nueva
  York para la cultura latina\, incluyó CARMEN.maquia en su repertorio en 
 2014\, y BalletMet\, veterana compañía de Columbus\,  lo puso en escena
  2016. Paralelamente a todo esto\, la pieza completa ha sido publicada en 
 formato blu-ray por Naxos USA\, en el programa Lincoln Center at the movie
 s\, con una grabación en vivo realizada por Ballet Hispánico en Mesa Art
 s Center  de Arizona y disponible para su distribución a nivel mundial.\
 n\nCARMEN.maquia se encuentra actualmente disponible para girar en Europa 
 a partir de la próxima temporada de la mano de Titoyaya Dansa:\n\n-28/03/
 2019 / ESTRENO NACIONAL\n\nGran Teatro de Elche\n\n-10/04/2019 / ESTRENO I
 NTERNACIONAL\n\nFollonica (Italia)\n\n-12/04/2019 \n\nSassari (Cerdeña)\n
 \n-13/04/2019 14/04/2018\n\nCagliari (Italia) 2 funciones\n\n-16/04/2019\n
 \nVenecia Mestre (Italia)\n\n-17/04/2019\n\nLegnago (Verona)\n\n-8\, 9 y 1
 0 / 11 /2019\n\nTeatro Principal de Valencia (3 funciones)\n\n&nbsp\;\n\n[
 gallery type="slideshow" ids="2358\,2323\,2322\,2321\,2320\,2319\,2318\,23
 17\,2316\,2315\,2314\,2313\,2312\,2310\,2308\,2300\,2301"]\n\n&nbsp\;\n\n&
 nbsp\;\n\n&nbsp\;\n\n&nbsp\;\n\n&nbsp\;\n\n&nbsp\;
ATTACH;FMTTYPE=image/jpeg:http://titoyaya.com/wp-content/uploads/2018/05/c
 armenmaquia-titoyaya-dansa-09-1.jpg
CATEGORIES:Actuación
END:VEVENT
END:VCALENDAR